BEGIN:VCALENDAR
VERSION:2.0
PRODID:-//Tukios.com/
BEGIN:VEVENT
UID:7533dd70-650a-4233-b88b-7fcfdc7af81d@www.rggrharris.com
DTSTAMP:20260423T234919Z
DTSTART:20260427T140000Z
DTEND:20260427T150000Z
SUMMARY:Visitation
DESCRIPTION:
URL:https://www.rggrharris.com/obituaries/william-bonsky
LOCATION:St. Matthews United Methodist Church 30900 Six Mile Rd  Livonia 
	MI 48152
GEO:42.4130772;-83.3504728
END:VEVENT
END:VCALENDAR