BEGIN:VCALENDAR
VERSION:2.0
PRODID:-//Tukios.com/
BEGIN:VEVENT
UID:fdb568dc-43c3-4e45-817f-6022c8ef8deb@www.rggrharris.com
DTSTAMP:20260423T234746Z
DTSTART:20260426T180000Z
DTEND:20260426T220000Z
SUMMARY:Visitation
DESCRIPTION:
URL:https://www.rggrharris.com/obituaries/william-bonsky
LOCATION: 15451 Farmington Rd  Livonia MI 48154
GEO:42.3987805;-83.3740343
END:VEVENT
END:VCALENDAR