BEGIN:VCALENDAR
VERSION:2.0
PRODID:-//Tukios.com/
BEGIN:VEVENT
UID:abc3a53f-efc8-4e3a-98d4-1fd13de47874@www.rggrharris.com
DTSTAMP:20260423T194013Z
DTSTART:20260428T180000Z
DTEND:20260429T000000Z
SUMMARY:Visitation
DESCRIPTION:
URL:https://www.rggrharris.com/obituaries/pavol-gallo
LOCATION: 15451 Farmington Rd  Livonia MI 48154
GEO:42.3987805;-83.3740343
END:VEVENT
END:VCALENDAR