BEGIN:VCALENDAR
VERSION:2.0
PRODID:-//Tukios.com/
BEGIN:VEVENT
UID:087d9a08-e77f-4394-a66e-264baf19ab17@www.rggrharris.com
DTSTAMP:20260423T022525Z
DTSTART:20260424T143000Z
DTEND:20260424T153000Z
SUMMARY:Mass
DESCRIPTION:
URL:https://www.rggrharris.com/obituaries/monica-guthard
LOCATION:St. Michael Catholic Church 11441 Hubbard  Livonia MI 48150
GEO:42.367693;-83.36265
END:VEVENT
END:VCALENDAR