BEGIN:VCALENDAR
VERSION:2.0
PRODID:-//Tukios.com/
BEGIN:VEVENT
UID:5d39fb1e-7a98-40bf-a303-f042a625091f@www.rggrharris.com
DTSTAMP:20260425T021544Z
DTSTART:20260501T160000Z
DTEND:20260501T170000Z
SUMMARY:Funeral Service
DESCRIPTION:
URL:https://www.rggrharris.com/obituaries/dalia-harp
LOCATION:Divine Providence Lithuanian Church 25335 West Nine Mile Road  
	Southfield MI 48033
GEO:42.4563363;-83.2936183
END:VEVENT
END:VCALENDAR