BEGIN:VCALENDAR
VERSION:2.0
PRODID:-//Tukios.com/
BEGIN:VEVENT
UID:7f5010e2-788e-458d-a0f2-b162d0bac996@www.rggrharris.com
DTSTAMP:20260425T022333Z
DTSTART:20260501T140000Z
DTEND:20260501T160000Z
SUMMARY:Visitation
DESCRIPTION:
URL:https://www.rggrharris.com/obituaries/dalia-harp
LOCATION: 25335 West Nine Mile Road  Southfield MI 48033
GEO:42.4563363;-83.2936183
END:VEVENT
END:VCALENDAR